BEGIN:VCALENDAR
VERSION:2.0
PRODID:-//ChamberMaster//Event Calendar 2.0//EN
METHOD:PUBLISH
X-PUBLISHED-TTL:P3D
REFRESH-INTERVAL:P3D
CALSCALE:GREGORIAN
BEGIN:VEVENT
DTSTART:20260205T190000Z
DTEND:20260205T200000Z
X-MICROSOFT-CDO-ALLDAYEVENT:FALSE
SUMMARY:Activities Committee Meeting
DESCRIPTION:Activities Committee\n\nChaired by Chet Preston\, Suncore\n\n\n\nThis committee meets on the first Thursday of every month.\n\n\n\nThis committee assists with the planning\, implementation\, and coordination of recreational activities for Association members and their families. These events often include golf tournaments\, family picnics\, and other types of membership events. Check out the events calendar for a full list of activities!
X-ALT-DESC;FMTTYPE=text/html:<span style="font-family:arial\;"><strong><u>Activities Committee</u></strong></span><br />\n<em style="font-size: 14px\; font-family: arial\;"><span style="font-family:arial\;">Chaired by Chet Preston\, Suncore</span></em><br />\n<br />\n<span style="font-size:14px\;"><span style="font-family:arial\;">This committee meets on the first&nbsp\;Thursday of every month.</span></span><br />\n<br />\n<span style="font-size:14px\;">This committee assists with the planning\, implementation\, and coordination of recreational activities for Association members and their families. These events often include golf tournaments\, family picnics\, and other types of membership events. Check out the events calendar for a full list of activities!&nbsp\;</span><br />\n&nbsp\;
LOCATION:Salt Lake Home Builders Association
UID:e.9412.3836
SEQUENCE:3
DTSTAMP:20260424T073012Z
URL:https://www.slhba.com/events/details/activities-committee-meeting-3836
END:VEVENT

END:VCALENDAR
