BEGIN:VCALENDAR
VERSION:2.0
PRODID:-//ChamberMaster//Event Calendar 2.0//EN
METHOD:PUBLISH
X-PUBLISHED-TTL:P3D
REFRESH-INTERVAL:P3D
CALSCALE:GREGORIAN
BEGIN:VEVENT
DTSTART:20260106T190000Z
DTEND:20260106T200000Z
X-MICROSOFT-CDO-ALLDAYEVENT:FALSE
SUMMARY:Member Engagement Committee Meeting
DESCRIPTION:Membership Committee\n\nChaired by Sarah Christensen\, Contract Appliance Sales  \n\n\n\nThis committee meets on the first Tuesday of every month.\n\n \n\nThe Membership Committee is focused on building a strong\, engaged membership base. This committee designs and implements programs aimed at retaining current members and actively recruiting new ones. By providing a welcoming experience for each new member\, the committee ensures they are informed of the full range of membership benefits\, resources\, and networking opportunities. Through ongoing engagement and support\, the Membership Committee strengthens member connections within the Association\, fostering a vibrant\, collaborative community that advances the home building industry.
X-ALT-DESC;FMTTYPE=text/html:<p class="cvGsUA direction-ltr align-start para-style-body" style="color: rgb(33\, 31\, 28)\; font-family: &quot\;YACgEUFdPdA 0&quot\;\, _fb_\, auto\; --cyV3ZQ: 15.1319px\; --gJPlXQ: 1.4\; letter-spacing: 0.05em\; line-height: 21px\;"><span style="font-family:arial\;"><span style="font-size:14px\;"><strong><u>Membership Committee</u></strong><br />\n<em>Chaired by Sarah Christensen\, Contract Appliance Sales&nbsp\;&nbsp\;</em></span></span><br />\n<br />\n<span style="font-size:14px\;"><span style="font-family:arial\;">This committee meets on the first Tuesday of every month.</span></span><br style="font-family: arial\; font-size: 14px\; letter-spacing: 0.65px\;" />\n<span style="font-family: arial\; font-size: 14px\; letter-spacing: 0.65px\;">&#8203\;</span><br style="font-family: arial\; font-size: 14px\; letter-spacing: 0.65px\;" />\n<span style="font-family: arial\; font-size: 14px\; letter-spacing: 0.65px\;">The Membership Committee</span><span style="font-family:arial\;"><span style="font-size:14px\;">&nbsp\;is focused on building a strong\, engaged membership base. This committee designs and implements programs aimed at retaining current members and actively recruiting new ones. By providing a welcoming experience for each new member\, the committee ensures they are informed of the full range of membership benefits\, resources\, and networking opportunities. Through ongoing engagement and support\, the Membership Committee strengthens member connections within the Association\, fostering a vibrant\, collaborative community that advances the home building industry.</span></span></p>\n
LOCATION:Salt Lake Home Builders Association
UID:e.9412.3847
SEQUENCE:3
DTSTAMP:20260424T054808Z
URL:https://www.slhba.com/events/details/membership-engagement-committee-meeting-3847
END:VEVENT

END:VCALENDAR
