BEGIN:VCALENDAR
VERSION:2.0
PRODID:-//ChamberMaster//Event Calendar 2.0//EN
METHOD:PUBLISH
X-PUBLISHED-TTL:P3D
REFRESH-INTERVAL:P3D
CALSCALE:GREGORIAN
BEGIN:VEVENT
DTSTART:20260505T213000Z
DTEND:20260505T223000Z
X-MICROSOFT-CDO-ALLDAYEVENT:FALSE
SUMMARY:Parade Committee Meeting
DESCRIPTION:Activities Committee\n\nChaired by Lisa Smith\, Stewart Title\n\n\n\nThis committee meets on the first Tuesday of every month.
X-ALT-DESC;FMTTYPE=text/html:<span style="font-family:arial\;"><strong><u>Activities Committee</u></strong></span><br />\n<em style="font-size: 14px\; font-family: arial\;"><span style="font-family:arial\;">Chaired by Lisa Smith\, Stewart Title</span></em><br />\n<br />\n<span style="font-size:14px\;"><span style="font-family:arial\;">This committee meets on the first&nbsp\;Tuesday of every month.</span></span><br />\n&nbsp\;
LOCATION:Salt Lake Home Builders Association
UID:e.9412.3954
SEQUENCE:3
DTSTAMP:20260425T113955Z
URL:https://www.slhba.com/events/details/parade-committee-meeting-05-05-2026-3954
END:VEVENT

END:VCALENDAR
